BEGIN:VCALENDAR
VERSION:2.0
PRODID:-//Town of Elk Point - ECPv6.15.20//NONSGML v1.0//EN
CALSCALE:GREGORIAN
METHOD:PUBLISH
X-ORIGINAL-URL:https://www.elkpoint.ca
X-WR-CALDESC:Events for Town of Elk Point
REFRESH-INTERVAL;VALUE=DURATION:PT1H
X-Robots-Tag:noindex
X-PUBLISHED-TTL:PT1H
BEGIN:VTIMEZONE
TZID:America/Edmonton
BEGIN:DAYLIGHT
TZOFFSETFROM:-0700
TZOFFSETTO:-0600
TZNAME:MDT
DTSTART:20250309T090000
END:DAYLIGHT
BEGIN:STANDARD
TZOFFSETFROM:-0600
TZOFFSETTO:-0700
TZNAME:MST
DTSTART:20251102T080000
END:STANDARD
BEGIN:DAYLIGHT
TZOFFSETFROM:-0700
TZOFFSETTO:-0600
TZNAME:MDT
DTSTART:20260308T090000
END:DAYLIGHT
BEGIN:STANDARD
TZOFFSETFROM:-0600
TZOFFSETTO:-0700
TZNAME:MST
DTSTART:20261101T080000
END:STANDARD
BEGIN:DAYLIGHT
TZOFFSETFROM:-0700
TZOFFSETTO:-0600
TZNAME:MDT
DTSTART:20270314T090000
END:DAYLIGHT
BEGIN:STANDARD
TZOFFSETFROM:-0600
TZOFFSETTO:-0700
TZNAME:MST
DTSTART:20271107T080000
END:STANDARD
END:VTIMEZONE
BEGIN:VEVENT
DTSTART;VALUE=DATE:20260301
DTEND;VALUE=DATE:20260302
DTSTAMP:20260422T025904
CREATED:20260226T211831Z
LAST-MODIFIED:20260226T211834Z
UID:23341-1772323200-1772409599@www.elkpoint.ca
SUMMARY:Hunt For The Pot Of Gold
DESCRIPTION:
URL:https://www.elkpoint.ca/event/hunt-for-the-pot-of-gold/2026-03-01/
LOCATION:Town of Elk Point
CATEGORIES:Community Events,Town of Elk Point Events
ATTACH;FMTTYPE=image/jpeg:https://s3.ca-central-1.amazonaws.com/oc-elkpoint.ca/wp-content/uploads/2022/12/12140211/elk-point-default-2.jpg
END:VEVENT
BEGIN:VEVENT
DTSTART;TZID=America/Edmonton:20260301T143000
DTEND;TZID=America/Edmonton:20260301T153000
DTSTAMP:20260422T025904
CREATED:20260226T212210Z
LAST-MODIFIED:20260226T212210Z
UID:23379-1772375400-1772379000@www.elkpoint.ca
SUMMARY:Elk Point Youth Council Meeting
DESCRIPTION:
URL:https://www.elkpoint.ca/event/elk-point-youth-council-meeting/
LOCATION:Alberta
CATEGORIES:Community Events,Town of Elk Point Events
ATTACH;FMTTYPE=image/jpeg:https://s3.ca-central-1.amazonaws.com/oc-elkpoint.ca/wp-content/uploads/2022/12/12140211/elk-point-default-2.jpg
END:VEVENT
END:VCALENDAR