BEGIN:VCALENDAR
VERSION:2.0
PRODID:-//Town of Elk Point - ECPv6.15.17.1//NONSGML v1.0//EN
CALSCALE:GREGORIAN
METHOD:PUBLISH
X-WR-CALNAME:Town of Elk Point
X-ORIGINAL-URL:https://www.elkpoint.ca
X-WR-CALDESC:Events for Town of Elk Point
REFRESH-INTERVAL;VALUE=DURATION:PT1H
X-Robots-Tag:noindex
X-PUBLISHED-TTL:PT1H
BEGIN:VTIMEZONE
TZID:America/Edmonton
BEGIN:DAYLIGHT
TZOFFSETFROM:-0700
TZOFFSETTO:-0600
TZNAME:MDT
DTSTART:20250309T090000
END:DAYLIGHT
BEGIN:STANDARD
TZOFFSETFROM:-0600
TZOFFSETTO:-0700
TZNAME:MST
DTSTART:20251102T080000
END:STANDARD
BEGIN:DAYLIGHT
TZOFFSETFROM:-0700
TZOFFSETTO:-0600
TZNAME:MDT
DTSTART:20260308T090000
END:DAYLIGHT
BEGIN:STANDARD
TZOFFSETFROM:-0600
TZOFFSETTO:-0700
TZNAME:MST
DTSTART:20261101T080000
END:STANDARD
BEGIN:DAYLIGHT
TZOFFSETFROM:-0700
TZOFFSETTO:-0600
TZNAME:MDT
DTSTART:20270314T090000
END:DAYLIGHT
BEGIN:STANDARD
TZOFFSETFROM:-0600
TZOFFSETTO:-0700
TZNAME:MST
DTSTART:20271107T080000
END:STANDARD
END:VTIMEZONE
BEGIN:VEVENT
DTSTART;TZID=America/Edmonton:20260302T083000
DTEND;TZID=America/Edmonton:20260424T163000
DTSTAMP:20260420T082652
CREATED:20260226T212406Z
LAST-MODIFIED:20260226T212407Z
UID:23383-1772440200-1777048200@www.elkpoint.ca
SUMMARY:Tax Time
DESCRIPTION:
URL:https://www.elkpoint.ca/event/tax-time/
LOCATION:LFRN Elk Point 4906 – 48 St\, 4906 48 Street\, Elk Point\, Alberta\, T0A 1A0\, Canada
CATEGORIES:Community Events,Town of Elk Point Events
ATTACH;FMTTYPE=image/jpeg:https://s3.ca-central-1.amazonaws.com/oc-elkpoint.ca/wp-content/uploads/2022/12/12140211/elk-point-default-2.jpg
END:VEVENT
BEGIN:VEVENT
DTSTART;VALUE=DATE:20260326
DTEND;VALUE=DATE:20260327
DTSTAMP:20260420T082652
CREATED:20260226T211831Z
LAST-MODIFIED:20260226T211831Z
UID:23370-1774483200-1774569599@www.elkpoint.ca
SUMMARY:Hunt For The Pot Of Gold
DESCRIPTION:
URL:https://www.elkpoint.ca/event/hunt-for-the-pot-of-gold/2026-03-26/
LOCATION:Town of Elk Point
CATEGORIES:Community Events,Town of Elk Point Events
ATTACH;FMTTYPE=image/jpeg:https://s3.ca-central-1.amazonaws.com/oc-elkpoint.ca/wp-content/uploads/2022/12/12140211/elk-point-default-2.jpg
END:VEVENT
BEGIN:VEVENT
DTSTART;TZID=America/Edmonton:20260326T093000
DTEND;TZID=America/Edmonton:20260326T110000
DTSTAMP:20260420T082652
CREATED:20260212T210828Z
LAST-MODIFIED:20260212T210906Z
UID:22991-1774517400-1774522800@www.elkpoint.ca
SUMMARY:Moms and Tots
DESCRIPTION:
URL:https://www.elkpoint.ca/event/moms-and-tots/2026-03-26/
LOCATION:Elk Point Christian Community Church\, 4825 49 Avenue\, Elk Point\, Alberta\, T0A 1A0\, Canada
CATEGORIES:Community Events,Town of Elk Point Events
ATTACH;FMTTYPE=image/jpeg:https://s3.ca-central-1.amazonaws.com/oc-elkpoint.ca/wp-content/uploads/2022/12/12140211/elk-point-default-2.jpg
END:VEVENT
BEGIN:VEVENT
DTSTART;TZID=America/Edmonton:20260326T183000
DTEND;TZID=America/Edmonton:20260326T200000
DTSTAMP:20260420T082652
CREATED:20260226T211111Z
LAST-MODIFIED:20260226T211112Z
UID:23315-1774549800-1774555200@www.elkpoint.ca
SUMMARY:Moms Matter - Healthy Lifestyle
DESCRIPTION:
URL:https://www.elkpoint.ca/event/moms-matter-healthy-lifestyle/
LOCATION:LFRN Elk Point 4906 – 48 St\, 4906 48 Street\, Elk Point\, Alberta\, T0A 1A0\, Canada
CATEGORIES:Community Events,Town of Elk Point Events
ATTACH;FMTTYPE=image/jpeg:https://s3.ca-central-1.amazonaws.com/oc-elkpoint.ca/wp-content/uploads/2022/12/12140211/elk-point-default-2.jpg
END:VEVENT
BEGIN:VEVENT
DTSTART;TZID=America/Edmonton:20260326T190000
DTEND;TZID=America/Edmonton:20260326T210000
DTSTAMP:20260420T082652
CREATED:20251212T173234Z
LAST-MODIFIED:20251212T173234Z
UID:22234-1774551600-1774558800@www.elkpoint.ca
SUMMARY:Safe Winter Walking
DESCRIPTION:
URL:https://www.elkpoint.ca/event/safe-winter-walking/2026-03-26/
LOCATION:F.G. Miller Sr/Jr Highschool\, 5218 51 St\, Elk Point\, Alberta\, T0A 1A0\, Canada
CATEGORIES:Community Events,Town of Elk Point Events
ATTACH;FMTTYPE=image/jpeg:https://s3.ca-central-1.amazonaws.com/oc-elkpoint.ca/wp-content/uploads/2022/12/12140211/elk-point-default-2.jpg
END:VEVENT
END:VCALENDAR