BEGIN:VCALENDAR
VERSION:2.0
PRODID:-//Town of Elk Point - ECPv6.15.20//NONSGML v1.0//EN
CALSCALE:GREGORIAN
METHOD:PUBLISH
X-ORIGINAL-URL:https://www.elkpoint.ca
X-WR-CALDESC:Events for Town of Elk Point
REFRESH-INTERVAL;VALUE=DURATION:PT1H
X-Robots-Tag:noindex
X-PUBLISHED-TTL:PT1H
BEGIN:VTIMEZONE
TZID:America/Edmonton
BEGIN:DAYLIGHT
TZOFFSETFROM:-0700
TZOFFSETTO:-0600
TZNAME:MDT
DTSTART:20250309T090000
END:DAYLIGHT
BEGIN:STANDARD
TZOFFSETFROM:-0600
TZOFFSETTO:-0700
TZNAME:MST
DTSTART:20251102T080000
END:STANDARD
BEGIN:DAYLIGHT
TZOFFSETFROM:-0700
TZOFFSETTO:-0600
TZNAME:MDT
DTSTART:20260308T090000
END:DAYLIGHT
BEGIN:STANDARD
TZOFFSETFROM:-0600
TZOFFSETTO:-0700
TZNAME:MST
DTSTART:20261101T080000
END:STANDARD
BEGIN:DAYLIGHT
TZOFFSETFROM:-0700
TZOFFSETTO:-0600
TZNAME:MDT
DTSTART:20270314T090000
END:DAYLIGHT
BEGIN:STANDARD
TZOFFSETFROM:-0600
TZOFFSETTO:-0700
TZNAME:MST
DTSTART:20271107T080000
END:STANDARD
END:VTIMEZONE
BEGIN:VEVENT
DTSTART;TZID=America/Edmonton:20260302T083000
DTEND;TZID=America/Edmonton:20260424T163000
DTSTAMP:20260422T091548
CREATED:20260226T212406Z
LAST-MODIFIED:20260226T212407Z
UID:23383-1772440200-1777048200@www.elkpoint.ca
SUMMARY:Tax Time
DESCRIPTION:
URL:https://www.elkpoint.ca/event/tax-time/
LOCATION:LFRN Elk Point 4906 – 48 St\, 4906 48 Street\, Elk Point\, Alberta\, T0A 1A0\, Canada
CATEGORIES:Community Events,Town of Elk Point Events
ATTACH;FMTTYPE=image/jpeg:https://s3.ca-central-1.amazonaws.com/oc-elkpoint.ca/wp-content/uploads/2022/12/12140211/elk-point-default-2.jpg
END:VEVENT
BEGIN:VEVENT
DTSTART;TZID=America/Edmonton:20260331T000000
DTEND;TZID=America/Edmonton:20260415T233000
DTSTAMP:20260422T091548
CREATED:20260323T152541Z
LAST-MODIFIED:20260323T152542Z
UID:23670-1774915200-1776295800@www.elkpoint.ca
SUMMARY:Elk Point Minor Ball
DESCRIPTION:
URL:https://www.elkpoint.ca/event/elk-point-minor-ball/
LOCATION:Alberta
CATEGORIES:Community Events,Town of Elk Point Events
ATTACH;FMTTYPE=image/jpeg:https://s3.ca-central-1.amazonaws.com/oc-elkpoint.ca/wp-content/uploads/2022/12/12140211/elk-point-default-2.jpg
END:VEVENT
BEGIN:VEVENT
DTSTART;TZID=America/Edmonton:20260403T083000
DTEND;TZID=America/Edmonton:20260403T113000
DTSTAMP:20260422T091548
CREATED:20260310T152816Z
LAST-MODIFIED:20260310T152817Z
UID:23524-1775205000-1775215800@www.elkpoint.ca
SUMMARY:Easter Event - Pancake Breakfast
DESCRIPTION:
URL:https://www.elkpoint.ca/event/easter-event-pancake-breakfast/
LOCATION:Elk Point Fire Department\, 5301 Railway Ave\, Elk Point\, Alberta\, T0A 1A0\, Canada
CATEGORIES:Community Events,Town of Elk Point Events
ATTACH;FMTTYPE=image/jpeg:https://s3.ca-central-1.amazonaws.com/oc-elkpoint.ca/wp-content/uploads/2022/12/12140211/elk-point-default-2.jpg
END:VEVENT
END:VCALENDAR