BEGIN:VCALENDAR
VERSION:2.0
PRODID:-//Town of Elk Point - ECPv6.15.20//NONSGML v1.0//EN
CALSCALE:GREGORIAN
METHOD:PUBLISH
X-ORIGINAL-URL:https://www.elkpoint.ca
X-WR-CALDESC:Events for Town of Elk Point
REFRESH-INTERVAL;VALUE=DURATION:PT1H
X-Robots-Tag:noindex
X-PUBLISHED-TTL:PT1H
BEGIN:VTIMEZONE
TZID:America/Edmonton
BEGIN:DAYLIGHT
TZOFFSETFROM:-0700
TZOFFSETTO:-0600
TZNAME:MDT
DTSTART:20250309T090000
END:DAYLIGHT
BEGIN:STANDARD
TZOFFSETFROM:-0600
TZOFFSETTO:-0700
TZNAME:MST
DTSTART:20251102T080000
END:STANDARD
BEGIN:DAYLIGHT
TZOFFSETFROM:-0700
TZOFFSETTO:-0600
TZNAME:MDT
DTSTART:20260308T090000
END:DAYLIGHT
BEGIN:STANDARD
TZOFFSETFROM:-0600
TZOFFSETTO:-0700
TZNAME:MST
DTSTART:20261101T080000
END:STANDARD
BEGIN:DAYLIGHT
TZOFFSETFROM:-0700
TZOFFSETTO:-0600
TZNAME:MDT
DTSTART:20270314T090000
END:DAYLIGHT
BEGIN:STANDARD
TZOFFSETFROM:-0600
TZOFFSETTO:-0700
TZNAME:MST
DTSTART:20271107T080000
END:STANDARD
END:VTIMEZONE
BEGIN:VEVENT
DTSTART;TZID=America/Edmonton:20260302T083000
DTEND;TZID=America/Edmonton:20260424T163000
DTSTAMP:20260422T091553
CREATED:20260226T212406Z
LAST-MODIFIED:20260226T212407Z
UID:23383-1772440200-1777048200@www.elkpoint.ca
SUMMARY:Tax Time
DESCRIPTION:
URL:https://www.elkpoint.ca/event/tax-time/
LOCATION:LFRN Elk Point 4906 – 48 St\, 4906 48 Street\, Elk Point\, Alberta\, T0A 1A0\, Canada
CATEGORIES:Community Events,Town of Elk Point Events
ATTACH;FMTTYPE=image/jpeg:https://s3.ca-central-1.amazonaws.com/oc-elkpoint.ca/wp-content/uploads/2022/12/12140211/elk-point-default-2.jpg
END:VEVENT
BEGIN:VEVENT
DTSTART;TZID=America/Edmonton:20260422T083000
DTEND;TZID=America/Edmonton:20260422T163000
DTSTAMP:20260422T091553
CREATED:20260401T175425Z
LAST-MODIFIED:20260401T175427Z
UID:23825-1776846600-1776875400@www.elkpoint.ca
SUMMARY:Gratitude Games - Volunteer Appreciation 2026
DESCRIPTION:
URL:https://www.elkpoint.ca/event/gratitude-games-volunteer-appreciation-2026/2026-04-22/
LOCATION:Alberta
CATEGORIES:Community Events,Town of Elk Point Events
ATTACH;FMTTYPE=image/jpeg:https://s3.ca-central-1.amazonaws.com/oc-elkpoint.ca/wp-content/uploads/2022/12/12140211/elk-point-default-2.jpg
END:VEVENT
BEGIN:VEVENT
DTSTART;TZID=America/Edmonton:20260422T120000
DTEND;TZID=America/Edmonton:20260422T133000
DTSTAMP:20260422T091553
CREATED:20251203T164436Z
LAST-MODIFIED:20251203T164436Z
UID:22110-1776859200-1776864600@www.elkpoint.ca
SUMMARY:Senior Skating
DESCRIPTION:Please check Facebook for Cancellations.
URL:https://www.elkpoint.ca/event/senior-skating/2026-04-22/
LOCATION:AG Ross Arena 5326 51 St\, 5326 51 St\, Elk Point\, Alberta\, T0A 1A0\, Canada
CATEGORIES:Community Events,Town of Elk Point Events
ATTACH;FMTTYPE=image/jpeg:https://s3.ca-central-1.amazonaws.com/oc-elkpoint.ca/wp-content/uploads/2022/12/12140211/elk-point-default-2.jpg
END:VEVENT
BEGIN:VEVENT
DTSTART;TZID=America/Edmonton:20260422T130000
DTEND;TZID=America/Edmonton:20260422T140000
DTSTAMP:20260422T091553
CREATED:20260323T214929Z
LAST-MODIFIED:20260323T214941Z
UID:23683-1776862800-1776866400@www.elkpoint.ca
SUMMARY:Learn to Use an IPAD
DESCRIPTION:
URL:https://www.elkpoint.ca/event/learn-to-use-an-ipad/2026-04-22/
LOCATION:Elk Point Municipal Library\, 5123 50 Ave\, Elk Point\, Alberta\, T0A 1A0\, Canada
CATEGORIES:Community Events,Town of Elk Point Events,Workshops & Seminars
ATTACH;FMTTYPE=image/jpeg:https://s3.ca-central-1.amazonaws.com/oc-elkpoint.ca/wp-content/uploads/2022/12/12140211/elk-point-default-2.jpg
END:VEVENT
BEGIN:VEVENT
DTSTART;TZID=America/Edmonton:20260422T133000
DTEND;TZID=America/Edmonton:20260422T150000
DTSTAMP:20260422T091553
CREATED:20251203T164234Z
LAST-MODIFIED:20251203T164234Z
UID:22072-1776864600-1776870000@www.elkpoint.ca
SUMMARY:Parent & Kids Skating
DESCRIPTION:Please check Facebook for cancellations.
URL:https://www.elkpoint.ca/event/parent-kids-skating/2026-04-22/
LOCATION:AG Ross Arena 5326 51 St\, 5326 51 St\, Elk Point\, Alberta\, T0A 1A0\, Canada
CATEGORIES:Community Events,Town of Elk Point Events
ATTACH;FMTTYPE=image/jpeg:https://s3.ca-central-1.amazonaws.com/oc-elkpoint.ca/wp-content/uploads/2022/12/12140211/elk-point-default-2.jpg
END:VEVENT
BEGIN:VEVENT
DTSTART;TZID=America/Edmonton:20260422T183000
DTEND;TZID=America/Edmonton:20260422T213000
DTSTAMP:20260422T091553
CREATED:20260330T153347Z
LAST-MODIFIED:20260330T153348Z
UID:23740-1776882600-1776893400@www.elkpoint.ca
SUMMARY:Elk Point & District Ukrainian Dance Spring Concert
DESCRIPTION:
URL:https://www.elkpoint.ca/event/elk-point-district-ukrainian-dance-spring-concert/
LOCATION:Allied Arts & Leisure Centre\, 4605 - 57 Avenue\, Elk Point\, Alberta\, T0A 1A0\, Canada
CATEGORIES:Community Events,Town of Elk Point Events
ATTACH;FMTTYPE=image/jpeg:https://s3.ca-central-1.amazonaws.com/oc-elkpoint.ca/wp-content/uploads/2022/12/12140211/elk-point-default-2.jpg
END:VEVENT
END:VCALENDAR