BEGIN:VCALENDAR
VERSION:2.0
PRODID:-//Town of Elk Point - ECPv6.15.17.1//NONSGML v1.0//EN
CALSCALE:GREGORIAN
METHOD:PUBLISH
X-ORIGINAL-URL:https://www.elkpoint.ca
X-WR-CALDESC:Events for Town of Elk Point
REFRESH-INTERVAL;VALUE=DURATION:PT1H
X-Robots-Tag:noindex
X-PUBLISHED-TTL:PT1H
BEGIN:VTIMEZONE
TZID:America/Edmonton
BEGIN:DAYLIGHT
TZOFFSETFROM:-0700
TZOFFSETTO:-0600
TZNAME:MDT
DTSTART:20250309T090000
END:DAYLIGHT
BEGIN:STANDARD
TZOFFSETFROM:-0600
TZOFFSETTO:-0700
TZNAME:MST
DTSTART:20251102T080000
END:STANDARD
BEGIN:DAYLIGHT
TZOFFSETFROM:-0700
TZOFFSETTO:-0600
TZNAME:MDT
DTSTART:20260308T090000
END:DAYLIGHT
BEGIN:STANDARD
TZOFFSETFROM:-0600
TZOFFSETTO:-0700
TZNAME:MST
DTSTART:20261101T080000
END:STANDARD
BEGIN:DAYLIGHT
TZOFFSETFROM:-0700
TZOFFSETTO:-0600
TZNAME:MDT
DTSTART:20270314T090000
END:DAYLIGHT
BEGIN:STANDARD
TZOFFSETFROM:-0600
TZOFFSETTO:-0700
TZNAME:MST
DTSTART:20271107T080000
END:STANDARD
END:VTIMEZONE
BEGIN:VEVENT
DTSTART;TZID=America/Edmonton:20260528T093000
DTEND;TZID=America/Edmonton:20260528T110000
DTSTAMP:20260420T053656
CREATED:20260212T210828Z
LAST-MODIFIED:20260212T210828Z
UID:23002-1779960600-1779966000@www.elkpoint.ca
SUMMARY:Moms and Tots
DESCRIPTION:
URL:https://www.elkpoint.ca/event/moms-and-tots/2026-05-28/
LOCATION:Elk Point Christian Community Church\, 4825 49 Avenue\, Elk Point\, Alberta\, T0A 1A0\, Canada
CATEGORIES:Community Events,Town of Elk Point Events
ATTACH;FMTTYPE=image/jpeg:https://s3.ca-central-1.amazonaws.com/oc-elkpoint.ca/wp-content/uploads/2022/12/12140211/elk-point-default-2.jpg
END:VEVENT
BEGIN:VEVENT
DTSTART;TZID=America/Edmonton:20260528T093000
DTEND;TZID=America/Edmonton:20260528T110000
DTSTAMP:20260420T053656
CREATED:20260402T172040Z
LAST-MODIFIED:20260402T172101Z
UID:23850-1779960600-1779966000@www.elkpoint.ca
SUMMARY:Newcomer Support Event (CALP) - Canadian Holidays
DESCRIPTION:
URL:https://www.elkpoint.ca/event/newcomer-support-event-calp-canadian-holidays/2026-05-28/
LOCATION:Elk Point Municipal Library\, 5123 50 Ave\, Elk Point\, Alberta\, T0A 1A0\, Canada
CATEGORIES:Community Events,Town of Elk Point Events
ATTACH;FMTTYPE=image/jpeg:https://s3.ca-central-1.amazonaws.com/oc-elkpoint.ca/wp-content/uploads/2022/12/12140211/elk-point-default-2.jpg
END:VEVENT
BEGIN:VEVENT
DTSTART;TZID=America/Edmonton:20260601T100000
DTEND;TZID=America/Edmonton:20260601T120000
DTSTAMP:20260420T053656
CREATED:20260211T202634Z
LAST-MODIFIED:20260211T203932Z
UID:22788-1780308000-1780315200@www.elkpoint.ca
SUMMARY:Monday Mayor Meet-Up
DESCRIPTION:
URL:https://www.elkpoint.ca/event/monday-mayor-meet-up/2026-06-01/
LOCATION:Town of Elk Point
CATEGORIES:Community Events,Council & Public meetings,Town of Elk Point Events
ATTACH;FMTTYPE=image/jpeg:https://s3.ca-central-1.amazonaws.com/oc-elkpoint.ca/wp-content/uploads/2022/12/12140211/elk-point-default-2.jpg
ORGANIZER;CN="Town of Elk Point":MAILTO:town@elkpoint.ca
END:VEVENT
BEGIN:VEVENT
DTSTART;TZID=America/Edmonton:20260604T093000
DTEND;TZID=America/Edmonton:20260604T110000
DTSTAMP:20260420T053656
CREATED:20260212T210828Z
LAST-MODIFIED:20260212T210828Z
UID:23003-1780565400-1780570800@www.elkpoint.ca
SUMMARY:Moms and Tots
DESCRIPTION:
URL:https://www.elkpoint.ca/event/moms-and-tots/2026-06-04/
LOCATION:Elk Point Christian Community Church\, 4825 49 Avenue\, Elk Point\, Alberta\, T0A 1A0\, Canada
CATEGORIES:Community Events,Town of Elk Point Events
ATTACH;FMTTYPE=image/jpeg:https://s3.ca-central-1.amazonaws.com/oc-elkpoint.ca/wp-content/uploads/2022/12/12140211/elk-point-default-2.jpg
END:VEVENT
BEGIN:VEVENT
DTSTART;TZID=America/Edmonton:20260604T170000
DTEND;TZID=America/Edmonton:20260604T183000
DTSTAMP:20260420T053656
CREATED:20260226T211628Z
LAST-MODIFIED:20260226T211630Z
UID:23335-1780592400-1780597800@www.elkpoint.ca
SUMMARY:Open Gym Night
DESCRIPTION:
URL:https://www.elkpoint.ca/event/open-gym-night/2026-06-04/
LOCATION:F.G. Miller Sr/Jr Highschool\, 5218 51 St\, Elk Point\, Alberta\, T0A 1A0\, Canada
CATEGORIES:Community Events,Town of Elk Point Events
ATTACH;FMTTYPE=image/jpeg:https://s3.ca-central-1.amazonaws.com/oc-elkpoint.ca/wp-content/uploads/2022/12/12140211/elk-point-default-2.jpg
END:VEVENT
BEGIN:VEVENT
DTSTART;TZID=America/Edmonton:20260605T130000
DTEND;TZID=America/Edmonton:20260605T170000
DTSTAMP:20260420T053656
CREATED:20260410T150735Z
LAST-MODIFIED:20260410T150736Z
UID:23948-1780664400-1780678800@www.elkpoint.ca
SUMMARY:Indoor Garage Sale
DESCRIPTION:
URL:https://www.elkpoint.ca/event/indoor-garage-sale/2026-06-05/
LOCATION:Elk Point Further Education Building\, 5202 51 Street\, Elk Point\, Alberta\, T0A 1A0\, Canada
CATEGORIES:Community Events,Town of Elk Point Events
ATTACH;FMTTYPE=image/jpeg:https://s3.ca-central-1.amazonaws.com/oc-elkpoint.ca/wp-content/uploads/2022/12/12140211/elk-point-default-2.jpg
END:VEVENT
BEGIN:VEVENT
DTSTART;TZID=America/Edmonton:20260606T100000
DTEND;TZID=America/Edmonton:20260606T160000
DTSTAMP:20260420T053656
CREATED:20260410T150735Z
LAST-MODIFIED:20260410T150735Z
UID:23950-1780740000-1780761600@www.elkpoint.ca
SUMMARY:Indoor Garage Sale
DESCRIPTION:
URL:https://www.elkpoint.ca/event/indoor-garage-sale/2026-06-06/
LOCATION:Elk Point Further Education Building\, 5202 51 Street\, Elk Point\, Alberta\, T0A 1A0\, Canada
CATEGORIES:Community Events,Town of Elk Point Events
ATTACH;FMTTYPE=image/jpeg:https://s3.ca-central-1.amazonaws.com/oc-elkpoint.ca/wp-content/uploads/2022/12/12140211/elk-point-default-2.jpg
END:VEVENT
BEGIN:VEVENT
DTSTART;TZID=America/Edmonton:20260606T100000
DTEND;TZID=America/Edmonton:20260606T170000
DTSTAMP:20260420T053656
CREATED:20260223T200630Z
LAST-MODIFIED:20260223T200631Z
UID:23210-1780740000-1780765200@www.elkpoint.ca
SUMMARY:Elk Point Auto Club's 37th Annual Car Show
DESCRIPTION:
URL:https://www.elkpoint.ca/event/elk-point-auto-clubs-37th-annual-car-show/
LOCATION:Town of Elk Point
CATEGORIES:Community Events,Town of Elk Point Events
ATTACH;FMTTYPE=image/jpeg:https://s3.ca-central-1.amazonaws.com/oc-elkpoint.ca/wp-content/uploads/2022/12/12140211/elk-point-default-2.jpg
END:VEVENT
BEGIN:VEVENT
DTSTART;TZID=America/Edmonton:20260608T100000
DTEND;TZID=America/Edmonton:20260608T120000
DTSTAMP:20260420T053656
CREATED:20260211T202634Z
LAST-MODIFIED:20260211T203932Z
UID:22789-1780912800-1780920000@www.elkpoint.ca
SUMMARY:Monday Mayor Meet-Up
DESCRIPTION:
URL:https://www.elkpoint.ca/event/monday-mayor-meet-up/2026-06-08/
LOCATION:Town of Elk Point
CATEGORIES:Community Events,Council & Public meetings,Town of Elk Point Events
ATTACH;FMTTYPE=image/jpeg:https://s3.ca-central-1.amazonaws.com/oc-elkpoint.ca/wp-content/uploads/2022/12/12140211/elk-point-default-2.jpg
ORGANIZER;CN="Town of Elk Point":MAILTO:town@elkpoint.ca
END:VEVENT
BEGIN:VEVENT
DTSTART;TZID=America/Edmonton:20260611T093000
DTEND;TZID=America/Edmonton:20260611T110000
DTSTAMP:20260420T053656
CREATED:20260212T210828Z
LAST-MODIFIED:20260212T210828Z
UID:23004-1781170200-1781175600@www.elkpoint.ca
SUMMARY:Moms and Tots
DESCRIPTION:
URL:https://www.elkpoint.ca/event/moms-and-tots/2026-06-11/
LOCATION:Elk Point Christian Community Church\, 4825 49 Avenue\, Elk Point\, Alberta\, T0A 1A0\, Canada
CATEGORIES:Community Events,Town of Elk Point Events
ATTACH;FMTTYPE=image/jpeg:https://s3.ca-central-1.amazonaws.com/oc-elkpoint.ca/wp-content/uploads/2022/12/12140211/elk-point-default-2.jpg
END:VEVENT
BEGIN:VEVENT
DTSTART;TZID=America/Edmonton:20260612T190000
DTEND;TZID=America/Edmonton:20260612T210000
DTSTAMP:20260420T053656
CREATED:20260401T172343Z
LAST-MODIFIED:20260407T195536Z
UID:23784-1781290800-1781298000@www.elkpoint.ca
SUMMARY:Scott Woods Band - Elk Point Allied Arts Centre
DESCRIPTION:ELK POINT\, AB – Fiddle Country
URL:https://www.elkpoint.ca/event/scott-woods-band-elk-point-allied-arts-centre/
LOCATION:Allied Arts & Leisure Centre\, 4605 - 57 Avenue\, Elk Point\, Alberta\, T0A 1A0\, Canada
CATEGORIES:Community Events,Town of Elk Point Events
ATTACH;FMTTYPE=image/jpeg:https://s3.ca-central-1.amazonaws.com/oc-elkpoint.ca/wp-content/uploads/2022/12/12140211/elk-point-default-2.jpg
END:VEVENT
BEGIN:VEVENT
DTSTART;TZID=America/Edmonton:20260615T100000
DTEND;TZID=America/Edmonton:20260615T120000
DTSTAMP:20260420T053656
CREATED:20260211T202634Z
LAST-MODIFIED:20260211T203933Z
UID:22790-1781517600-1781524800@www.elkpoint.ca
SUMMARY:Monday Mayor Meet-Up
DESCRIPTION:
URL:https://www.elkpoint.ca/event/monday-mayor-meet-up/2026-06-15/
LOCATION:Town of Elk Point
CATEGORIES:Community Events,Council & Public meetings,Town of Elk Point Events
ATTACH;FMTTYPE=image/jpeg:https://s3.ca-central-1.amazonaws.com/oc-elkpoint.ca/wp-content/uploads/2022/12/12140211/elk-point-default-2.jpg
ORGANIZER;CN="Town of Elk Point":MAILTO:town@elkpoint.ca
END:VEVENT
BEGIN:VEVENT
DTSTART;TZID=America/Edmonton:20260618T093000
DTEND;TZID=America/Edmonton:20260618T110000
DTSTAMP:20260420T053656
CREATED:20260212T210828Z
LAST-MODIFIED:20260212T210828Z
UID:23005-1781775000-1781780400@www.elkpoint.ca
SUMMARY:Moms and Tots
DESCRIPTION:
URL:https://www.elkpoint.ca/event/moms-and-tots/2026-06-18/
LOCATION:Elk Point Christian Community Church\, 4825 49 Avenue\, Elk Point\, Alberta\, T0A 1A0\, Canada
CATEGORIES:Community Events,Town of Elk Point Events
ATTACH;FMTTYPE=image/jpeg:https://s3.ca-central-1.amazonaws.com/oc-elkpoint.ca/wp-content/uploads/2022/12/12140211/elk-point-default-2.jpg
END:VEVENT
BEGIN:VEVENT
DTSTART;TZID=America/Edmonton:20260618T113000
DTEND;TZID=America/Edmonton:20260618T130000
DTSTAMP:20260420T053656
CREATED:20260212T184134Z
LAST-MODIFIED:20260212T184134Z
UID:23105-1781782200-1781787600@www.elkpoint.ca
SUMMARY:Christian Community Church Soup Luncheon
DESCRIPTION:
URL:https://www.elkpoint.ca/event/christian-community-church-soup-luncheon/2026-06-18/
LOCATION:Elk Point Christian Community Church\, 4825 49 Avenue\, Elk Point\, Alberta\, T0A 1A0\, Canada
CATEGORIES:Community Events,Town of Elk Point Events
ATTACH;FMTTYPE=image/jpeg:https://s3.ca-central-1.amazonaws.com/oc-elkpoint.ca/wp-content/uploads/2022/12/12140211/elk-point-default-2.jpg
END:VEVENT
BEGIN:VEVENT
DTSTART;TZID=America/Edmonton:20260619T130000
DTEND;TZID=America/Edmonton:20260619T143000
DTSTAMP:20260420T053656
CREATED:20260402T173714Z
LAST-MODIFIED:20260402T200421Z
UID:23859-1781874000-1781879400@www.elkpoint.ca
SUMMARY:Living Well Series - Awareness\, Action and Advocacy
DESCRIPTION:
URL:https://www.elkpoint.ca/event/white-owl-wellness-living-well-series-awareness-action-and-advocacy/2026-06-19/
LOCATION:Elk Point Further Education Building\, 5202 51 Street\, Elk Point\, Alberta\, T0A 1A0\, Canada
CATEGORIES:Community Events,Town of Elk Point Events,Workshops & Seminars
ATTACH;FMTTYPE=image/jpeg:https://s3.ca-central-1.amazonaws.com/oc-elkpoint.ca/wp-content/uploads/2022/12/12140211/elk-point-default-2.jpg
END:VEVENT
BEGIN:VEVENT
DTSTART;TZID=America/Edmonton:20260622T100000
DTEND;TZID=America/Edmonton:20260622T120000
DTSTAMP:20260420T053656
CREATED:20260211T202634Z
LAST-MODIFIED:20260211T203933Z
UID:22791-1782122400-1782129600@www.elkpoint.ca
SUMMARY:Monday Mayor Meet-Up
DESCRIPTION:
URL:https://www.elkpoint.ca/event/monday-mayor-meet-up/2026-06-22/
LOCATION:Town of Elk Point
CATEGORIES:Community Events,Council & Public meetings,Town of Elk Point Events
ATTACH;FMTTYPE=image/jpeg:https://s3.ca-central-1.amazonaws.com/oc-elkpoint.ca/wp-content/uploads/2022/12/12140211/elk-point-default-2.jpg
ORGANIZER;CN="Town of Elk Point":MAILTO:town@elkpoint.ca
END:VEVENT
BEGIN:VEVENT
DTSTART;TZID=America/Edmonton:20260625T093000
DTEND;TZID=America/Edmonton:20260625T110000
DTSTAMP:20260420T053656
CREATED:20260212T210828Z
LAST-MODIFIED:20260212T210828Z
UID:23006-1782379800-1782385200@www.elkpoint.ca
SUMMARY:Moms and Tots
DESCRIPTION:
URL:https://www.elkpoint.ca/event/moms-and-tots/2026-06-25/
LOCATION:Elk Point Christian Community Church\, 4825 49 Avenue\, Elk Point\, Alberta\, T0A 1A0\, Canada
CATEGORIES:Community Events,Town of Elk Point Events
ATTACH;FMTTYPE=image/jpeg:https://s3.ca-central-1.amazonaws.com/oc-elkpoint.ca/wp-content/uploads/2022/12/12140211/elk-point-default-2.jpg
END:VEVENT
BEGIN:VEVENT
DTSTART;TZID=America/Edmonton:20260629T100000
DTEND;TZID=America/Edmonton:20260629T120000
DTSTAMP:20260420T053656
CREATED:20260211T202634Z
LAST-MODIFIED:20260211T203933Z
UID:22792-1782727200-1782734400@www.elkpoint.ca
SUMMARY:Monday Mayor Meet-Up
DESCRIPTION:
URL:https://www.elkpoint.ca/event/monday-mayor-meet-up/2026-06-29/
LOCATION:Town of Elk Point
CATEGORIES:Community Events,Council & Public meetings,Town of Elk Point Events
ATTACH;FMTTYPE=image/jpeg:https://s3.ca-central-1.amazonaws.com/oc-elkpoint.ca/wp-content/uploads/2022/12/12140211/elk-point-default-2.jpg
ORGANIZER;CN="Town of Elk Point":MAILTO:town@elkpoint.ca
END:VEVENT
BEGIN:VEVENT
DTSTART;TZID=America/Edmonton:20260702T093000
DTEND;TZID=America/Edmonton:20260702T110000
DTSTAMP:20260420T053656
CREATED:20260212T210828Z
LAST-MODIFIED:20260212T210828Z
UID:23007-1782984600-1782990000@www.elkpoint.ca
SUMMARY:Moms and Tots
DESCRIPTION:
URL:https://www.elkpoint.ca/event/moms-and-tots/2026-07-02/
LOCATION:Elk Point Christian Community Church\, 4825 49 Avenue\, Elk Point\, Alberta\, T0A 1A0\, Canada
CATEGORIES:Community Events,Town of Elk Point Events
ATTACH;FMTTYPE=image/jpeg:https://s3.ca-central-1.amazonaws.com/oc-elkpoint.ca/wp-content/uploads/2022/12/12140211/elk-point-default-2.jpg
END:VEVENT
BEGIN:VEVENT
DTSTART;VALUE=DATE:20260706
DTEND;VALUE=DATE:20260711
DTSTAMP:20260420T053656
CREATED:20260217T170531Z
LAST-MODIFIED:20260217T195137Z
UID:23127-1783296000-1783727999@www.elkpoint.ca
SUMMARY:Camp Whitney United Church Camp
DESCRIPTION:
URL:https://www.elkpoint.ca/event/camp-whitney-united-church-camp/2026-07-06/
LOCATION:Alberta
CATEGORIES:Community Events
ATTACH;FMTTYPE=image/jpeg:https://s3.ca-central-1.amazonaws.com/oc-elkpoint.ca/wp-content/uploads/2022/12/12140211/elk-point-default-2.jpg
ORGANIZER;CN="Camp Whitney United Church Camp":MAILTO:camp.whitney.united@gmail.com
END:VEVENT
BEGIN:VEVENT
DTSTART;TZID=America/Edmonton:20260706T100000
DTEND;TZID=America/Edmonton:20260706T120000
DTSTAMP:20260420T053656
CREATED:20260211T202634Z
LAST-MODIFIED:20260211T203934Z
UID:22793-1783332000-1783339200@www.elkpoint.ca
SUMMARY:Monday Mayor Meet-Up
DESCRIPTION:
URL:https://www.elkpoint.ca/event/monday-mayor-meet-up/2026-07-06/
LOCATION:Town of Elk Point
CATEGORIES:Community Events,Council & Public meetings,Town of Elk Point Events
ATTACH;FMTTYPE=image/jpeg:https://s3.ca-central-1.amazonaws.com/oc-elkpoint.ca/wp-content/uploads/2022/12/12140211/elk-point-default-2.jpg
ORGANIZER;CN="Town of Elk Point":MAILTO:town@elkpoint.ca
END:VEVENT
BEGIN:VEVENT
DTSTART;TZID=America/Edmonton:20260709T093000
DTEND;TZID=America/Edmonton:20260709T110000
DTSTAMP:20260420T053656
CREATED:20260212T210828Z
LAST-MODIFIED:20260212T210828Z
UID:23008-1783589400-1783594800@www.elkpoint.ca
SUMMARY:Moms and Tots
DESCRIPTION:
URL:https://www.elkpoint.ca/event/moms-and-tots/2026-07-09/
LOCATION:Elk Point Christian Community Church\, 4825 49 Avenue\, Elk Point\, Alberta\, T0A 1A0\, Canada
CATEGORIES:Community Events,Town of Elk Point Events
ATTACH;FMTTYPE=image/jpeg:https://s3.ca-central-1.amazonaws.com/oc-elkpoint.ca/wp-content/uploads/2022/12/12140211/elk-point-default-2.jpg
END:VEVENT
BEGIN:VEVENT
DTSTART;TZID=America/Edmonton:20260712T080000
DTEND;TZID=America/Edmonton:20260718T170000
DTSTAMP:20260420T053656
CREATED:20260217T170531Z
LAST-MODIFIED:20260217T170531Z
UID:23133-1783843200-1784394000@www.elkpoint.ca
SUMMARY:Camp Whitney United Church Camp
DESCRIPTION:
URL:https://www.elkpoint.ca/event/camp-whitney-united-church-camp/2026-07-12/
LOCATION:Alberta
CATEGORIES:Community Events
ATTACH;FMTTYPE=image/jpeg:https://s3.ca-central-1.amazonaws.com/oc-elkpoint.ca/wp-content/uploads/2022/12/12140211/elk-point-default-2.jpg
ORGANIZER;CN="Camp Whitney United Church Camp":MAILTO:camp.whitney.united@gmail.com
END:VEVENT
BEGIN:VEVENT
DTSTART;TZID=America/Edmonton:20260713T100000
DTEND;TZID=America/Edmonton:20260713T120000
DTSTAMP:20260420T053656
CREATED:20260211T202634Z
LAST-MODIFIED:20260211T203934Z
UID:22794-1783936800-1783944000@www.elkpoint.ca
SUMMARY:Monday Mayor Meet-Up
DESCRIPTION:
URL:https://www.elkpoint.ca/event/monday-mayor-meet-up/2026-07-13/
LOCATION:Town of Elk Point
CATEGORIES:Community Events,Council & Public meetings,Town of Elk Point Events
ATTACH;FMTTYPE=image/jpeg:https://s3.ca-central-1.amazonaws.com/oc-elkpoint.ca/wp-content/uploads/2022/12/12140211/elk-point-default-2.jpg
ORGANIZER;CN="Town of Elk Point":MAILTO:town@elkpoint.ca
END:VEVENT
BEGIN:VEVENT
DTSTART;TZID=America/Edmonton:20260716T093000
DTEND;TZID=America/Edmonton:20260716T110000
DTSTAMP:20260420T053656
CREATED:20260212T210828Z
LAST-MODIFIED:20260212T210828Z
UID:23009-1784194200-1784199600@www.elkpoint.ca
SUMMARY:Moms and Tots
DESCRIPTION:
URL:https://www.elkpoint.ca/event/moms-and-tots/2026-07-16/
LOCATION:Elk Point Christian Community Church\, 4825 49 Avenue\, Elk Point\, Alberta\, T0A 1A0\, Canada
CATEGORIES:Community Events,Town of Elk Point Events
ATTACH;FMTTYPE=image/jpeg:https://s3.ca-central-1.amazonaws.com/oc-elkpoint.ca/wp-content/uploads/2022/12/12140211/elk-point-default-2.jpg
END:VEVENT
BEGIN:VEVENT
DTSTART;TZID=America/Edmonton:20260716T113000
DTEND;TZID=America/Edmonton:20260716T130000
DTSTAMP:20260420T053656
CREATED:20260212T184134Z
LAST-MODIFIED:20260212T184134Z
UID:23106-1784201400-1784206800@www.elkpoint.ca
SUMMARY:Christian Community Church Soup Luncheon
DESCRIPTION:
URL:https://www.elkpoint.ca/event/christian-community-church-soup-luncheon/2026-07-16/
LOCATION:Elk Point Christian Community Church\, 4825 49 Avenue\, Elk Point\, Alberta\, T0A 1A0\, Canada
CATEGORIES:Community Events,Town of Elk Point Events
ATTACH;FMTTYPE=image/jpeg:https://s3.ca-central-1.amazonaws.com/oc-elkpoint.ca/wp-content/uploads/2022/12/12140211/elk-point-default-2.jpg
END:VEVENT
BEGIN:VEVENT
DTSTART;TZID=America/Edmonton:20260719T080000
DTEND;TZID=America/Edmonton:20260725T170000
DTSTAMP:20260420T053656
CREATED:20260217T170531Z
LAST-MODIFIED:20260217T170531Z
UID:23134-1784448000-1784998800@www.elkpoint.ca
SUMMARY:Camp Whitney United Church Camp
DESCRIPTION:
URL:https://www.elkpoint.ca/event/camp-whitney-united-church-camp/2026-07-19/
LOCATION:Alberta
CATEGORIES:Community Events
ATTACH;FMTTYPE=image/jpeg:https://s3.ca-central-1.amazonaws.com/oc-elkpoint.ca/wp-content/uploads/2022/12/12140211/elk-point-default-2.jpg
ORGANIZER;CN="Camp Whitney United Church Camp":MAILTO:camp.whitney.united@gmail.com
END:VEVENT
BEGIN:VEVENT
DTSTART;TZID=America/Edmonton:20260720T100000
DTEND;TZID=America/Edmonton:20260720T120000
DTSTAMP:20260420T053656
CREATED:20260211T202634Z
LAST-MODIFIED:20260211T203934Z
UID:22795-1784541600-1784548800@www.elkpoint.ca
SUMMARY:Monday Mayor Meet-Up
DESCRIPTION:
URL:https://www.elkpoint.ca/event/monday-mayor-meet-up/2026-07-20/
LOCATION:Town of Elk Point
CATEGORIES:Community Events,Council & Public meetings,Town of Elk Point Events
ATTACH;FMTTYPE=image/jpeg:https://s3.ca-central-1.amazonaws.com/oc-elkpoint.ca/wp-content/uploads/2022/12/12140211/elk-point-default-2.jpg
ORGANIZER;CN="Town of Elk Point":MAILTO:town@elkpoint.ca
END:VEVENT
BEGIN:VEVENT
DTSTART;TZID=America/Edmonton:20260723T093000
DTEND;TZID=America/Edmonton:20260723T110000
DTSTAMP:20260420T053656
CREATED:20260212T210828Z
LAST-MODIFIED:20260212T210828Z
UID:23010-1784799000-1784804400@www.elkpoint.ca
SUMMARY:Moms and Tots
DESCRIPTION:
URL:https://www.elkpoint.ca/event/moms-and-tots/2026-07-23/
LOCATION:Elk Point Christian Community Church\, 4825 49 Avenue\, Elk Point\, Alberta\, T0A 1A0\, Canada
CATEGORIES:Community Events,Town of Elk Point Events
ATTACH;FMTTYPE=image/jpeg:https://s3.ca-central-1.amazonaws.com/oc-elkpoint.ca/wp-content/uploads/2022/12/12140211/elk-point-default-2.jpg
END:VEVENT
BEGIN:VEVENT
DTSTART;TZID=America/Edmonton:20260726T080000
DTEND;TZID=America/Edmonton:20260801T170000
DTSTAMP:20260420T053656
CREATED:20260217T170531Z
LAST-MODIFIED:20260217T170531Z
UID:23135-1785052800-1785603600@www.elkpoint.ca
SUMMARY:Camp Whitney United Church Camp
DESCRIPTION:
URL:https://www.elkpoint.ca/event/camp-whitney-united-church-camp/2026-07-26/
LOCATION:Alberta
CATEGORIES:Community Events
ATTACH;FMTTYPE=image/jpeg:https://s3.ca-central-1.amazonaws.com/oc-elkpoint.ca/wp-content/uploads/2022/12/12140211/elk-point-default-2.jpg
ORGANIZER;CN="Camp Whitney United Church Camp":MAILTO:camp.whitney.united@gmail.com
END:VEVENT
END:VCALENDAR