BEGIN:VCALENDAR
VERSION:2.0
PRODID:-//Town of Elk Point - ECPv6.15.17.1//NONSGML v1.0//EN
CALSCALE:GREGORIAN
METHOD:PUBLISH
X-WR-CALNAME:Town of Elk Point
X-ORIGINAL-URL:https://www.elkpoint.ca
X-WR-CALDESC:Events for Town of Elk Point
REFRESH-INTERVAL;VALUE=DURATION:PT1H
X-Robots-Tag:noindex
X-PUBLISHED-TTL:PT1H
BEGIN:VTIMEZONE
TZID:America/Edmonton
BEGIN:DAYLIGHT
TZOFFSETFROM:-0700
TZOFFSETTO:-0600
TZNAME:MDT
DTSTART:20250309T090000
END:DAYLIGHT
BEGIN:STANDARD
TZOFFSETFROM:-0600
TZOFFSETTO:-0700
TZNAME:MST
DTSTART:20251102T080000
END:STANDARD
BEGIN:DAYLIGHT
TZOFFSETFROM:-0700
TZOFFSETTO:-0600
TZNAME:MDT
DTSTART:20260308T090000
END:DAYLIGHT
BEGIN:STANDARD
TZOFFSETFROM:-0600
TZOFFSETTO:-0700
TZNAME:MST
DTSTART:20261101T080000
END:STANDARD
BEGIN:DAYLIGHT
TZOFFSETFROM:-0700
TZOFFSETTO:-0600
TZNAME:MDT
DTSTART:20270314T090000
END:DAYLIGHT
BEGIN:STANDARD
TZOFFSETFROM:-0600
TZOFFSETTO:-0700
TZNAME:MST
DTSTART:20271107T080000
END:STANDARD
END:VTIMEZONE
BEGIN:VEVENT
DTSTART;TZID=America/Edmonton:20260101T190000
DTEND;TZID=America/Edmonton:20260101T210000
DTSTAMP:20260420T065159
CREATED:20251212T173234Z
LAST-MODIFIED:20251212T174149Z
UID:22208-1767294000-1767301200@www.elkpoint.ca
SUMMARY:Safe Winter Walking
DESCRIPTION:
URL:https://www.elkpoint.ca/event/safe-winter-walking/2026-01-01/
LOCATION:F.G. Miller Sr/Jr Highschool\, 5218 51 St\, Elk Point\, Alberta\, T0A 1A0\, Canada
CATEGORIES:Community Events,Town of Elk Point Events
ATTACH;FMTTYPE=image/jpeg:https://s3.ca-central-1.amazonaws.com/oc-elkpoint.ca/wp-content/uploads/2022/12/12140211/elk-point-default-2.jpg
END:VEVENT
BEGIN:VEVENT
DTSTART;TZID=America/Edmonton:20260106T190000
DTEND;TZID=America/Edmonton:20260106T210000
DTSTAMP:20260420T065159
CREATED:20251212T173234Z
LAST-MODIFIED:20251212T174150Z
UID:22209-1767726000-1767733200@www.elkpoint.ca
SUMMARY:Safe Winter Walking
DESCRIPTION:
URL:https://www.elkpoint.ca/event/safe-winter-walking/2026-01-06/
LOCATION:F.G. Miller Sr/Jr Highschool\, 5218 51 St\, Elk Point\, Alberta\, T0A 1A0\, Canada
CATEGORIES:Community Events,Town of Elk Point Events
ATTACH;FMTTYPE=image/jpeg:https://s3.ca-central-1.amazonaws.com/oc-elkpoint.ca/wp-content/uploads/2022/12/12140211/elk-point-default-2.jpg
END:VEVENT
BEGIN:VEVENT
DTSTART;TZID=America/Edmonton:20260107T120000
DTEND;TZID=America/Edmonton:20260107T133000
DTSTAMP:20260420T065159
CREATED:20251203T164436Z
LAST-MODIFIED:20251203T164450Z
UID:22093-1767787200-1767792600@www.elkpoint.ca
SUMMARY:Senior Skating
DESCRIPTION:Please check Facebook for Cancellations.
URL:https://www.elkpoint.ca/event/senior-skating/2026-01-07/
LOCATION:AG Ross Arena 5326 51 St\, 5326 51 St\, Elk Point\, Alberta\, T0A 1A0\, Canada
CATEGORIES:Community Events,Town of Elk Point Events
ATTACH;FMTTYPE=image/jpeg:https://s3.ca-central-1.amazonaws.com/oc-elkpoint.ca/wp-content/uploads/2022/12/12140211/elk-point-default-2.jpg
END:VEVENT
BEGIN:VEVENT
DTSTART;TZID=America/Edmonton:20260107T133000
DTEND;TZID=America/Edmonton:20260107T150000
DTSTAMP:20260420T065159
CREATED:20251203T164234Z
LAST-MODIFIED:20251203T164249Z
UID:22055-1767792600-1767798000@www.elkpoint.ca
SUMMARY:Parent & Kids Skating
DESCRIPTION:Please check Facebook for cancellations.
URL:https://www.elkpoint.ca/event/parent-kids-skating/2026-01-07/
LOCATION:AG Ross Arena 5326 51 St\, 5326 51 St\, Elk Point\, Alberta\, T0A 1A0\, Canada
CATEGORIES:Community Events,Town of Elk Point Events
ATTACH;FMTTYPE=image/jpeg:https://s3.ca-central-1.amazonaws.com/oc-elkpoint.ca/wp-content/uploads/2022/12/12140211/elk-point-default-2.jpg
END:VEVENT
BEGIN:VEVENT
DTSTART;TZID=America/Edmonton:20260108T190000
DTEND;TZID=America/Edmonton:20260108T210000
DTSTAMP:20260420T065159
CREATED:20251212T173234Z
LAST-MODIFIED:20251212T174150Z
UID:22210-1767898800-1767906000@www.elkpoint.ca
SUMMARY:Safe Winter Walking
DESCRIPTION:
URL:https://www.elkpoint.ca/event/safe-winter-walking/2026-01-08/
LOCATION:F.G. Miller Sr/Jr Highschool\, 5218 51 St\, Elk Point\, Alberta\, T0A 1A0\, Canada
CATEGORIES:Community Events,Town of Elk Point Events
ATTACH;FMTTYPE=image/jpeg:https://s3.ca-central-1.amazonaws.com/oc-elkpoint.ca/wp-content/uploads/2022/12/12140211/elk-point-default-2.jpg
END:VEVENT
BEGIN:VEVENT
DTSTART;TZID=America/Edmonton:20260113T190000
DTEND;TZID=America/Edmonton:20260113T210000
DTSTAMP:20260420T065159
CREATED:20251212T173234Z
LAST-MODIFIED:20251212T174150Z
UID:22211-1768330800-1768338000@www.elkpoint.ca
SUMMARY:Safe Winter Walking
DESCRIPTION:
URL:https://www.elkpoint.ca/event/safe-winter-walking/2026-01-13/
LOCATION:F.G. Miller Sr/Jr Highschool\, 5218 51 St\, Elk Point\, Alberta\, T0A 1A0\, Canada
CATEGORIES:Community Events,Town of Elk Point Events
ATTACH;FMTTYPE=image/jpeg:https://s3.ca-central-1.amazonaws.com/oc-elkpoint.ca/wp-content/uploads/2022/12/12140211/elk-point-default-2.jpg
END:VEVENT
BEGIN:VEVENT
DTSTART;TZID=America/Edmonton:20260114T120000
DTEND;TZID=America/Edmonton:20260114T133000
DTSTAMP:20260420T065159
CREATED:20251203T164436Z
LAST-MODIFIED:20251203T164450Z
UID:22094-1768392000-1768397400@www.elkpoint.ca
SUMMARY:Senior Skating
DESCRIPTION:Please check Facebook for Cancellations.
URL:https://www.elkpoint.ca/event/senior-skating/2026-01-14/
LOCATION:AG Ross Arena 5326 51 St\, 5326 51 St\, Elk Point\, Alberta\, T0A 1A0\, Canada
CATEGORIES:Community Events,Town of Elk Point Events
ATTACH;FMTTYPE=image/jpeg:https://s3.ca-central-1.amazonaws.com/oc-elkpoint.ca/wp-content/uploads/2022/12/12140211/elk-point-default-2.jpg
END:VEVENT
BEGIN:VEVENT
DTSTART;TZID=America/Edmonton:20260114T133000
DTEND;TZID=America/Edmonton:20260114T150000
DTSTAMP:20260420T065159
CREATED:20251203T164234Z
LAST-MODIFIED:20251203T164249Z
UID:22056-1768397400-1768402800@www.elkpoint.ca
SUMMARY:Parent & Kids Skating
DESCRIPTION:Please check Facebook for cancellations.
URL:https://www.elkpoint.ca/event/parent-kids-skating/2026-01-14/
LOCATION:AG Ross Arena 5326 51 St\, 5326 51 St\, Elk Point\, Alberta\, T0A 1A0\, Canada
CATEGORIES:Community Events,Town of Elk Point Events
ATTACH;FMTTYPE=image/jpeg:https://s3.ca-central-1.amazonaws.com/oc-elkpoint.ca/wp-content/uploads/2022/12/12140211/elk-point-default-2.jpg
END:VEVENT
BEGIN:VEVENT
DTSTART;TZID=America/Edmonton:20260115T190000
DTEND;TZID=America/Edmonton:20260115T210000
DTSTAMP:20260420T065159
CREATED:20251212T173234Z
LAST-MODIFIED:20251212T174151Z
UID:22212-1768503600-1768510800@www.elkpoint.ca
SUMMARY:Safe Winter Walking
DESCRIPTION:
URL:https://www.elkpoint.ca/event/safe-winter-walking/2026-01-15/
LOCATION:F.G. Miller Sr/Jr Highschool\, 5218 51 St\, Elk Point\, Alberta\, T0A 1A0\, Canada
CATEGORIES:Community Events,Town of Elk Point Events
ATTACH;FMTTYPE=image/jpeg:https://s3.ca-central-1.amazonaws.com/oc-elkpoint.ca/wp-content/uploads/2022/12/12140211/elk-point-default-2.jpg
END:VEVENT
BEGIN:VEVENT
DTSTART;TZID=America/Edmonton:20260120T190000
DTEND;TZID=America/Edmonton:20260120T210000
DTSTAMP:20260420T065159
CREATED:20251212T173234Z
LAST-MODIFIED:20251212T174151Z
UID:22213-1768935600-1768942800@www.elkpoint.ca
SUMMARY:Safe Winter Walking
DESCRIPTION:
URL:https://www.elkpoint.ca/event/safe-winter-walking/2026-01-20/
LOCATION:F.G. Miller Sr/Jr Highschool\, 5218 51 St\, Elk Point\, Alberta\, T0A 1A0\, Canada
CATEGORIES:Community Events,Town of Elk Point Events
ATTACH;FMTTYPE=image/jpeg:https://s3.ca-central-1.amazonaws.com/oc-elkpoint.ca/wp-content/uploads/2022/12/12140211/elk-point-default-2.jpg
END:VEVENT
BEGIN:VEVENT
DTSTART;TZID=America/Edmonton:20260121T120000
DTEND;TZID=America/Edmonton:20260121T133000
DTSTAMP:20260420T065159
CREATED:20251203T164436Z
LAST-MODIFIED:20251203T164451Z
UID:22095-1768996800-1769002200@www.elkpoint.ca
SUMMARY:Senior Skating
DESCRIPTION:Please check Facebook for Cancellations.
URL:https://www.elkpoint.ca/event/senior-skating/2026-01-21/
LOCATION:AG Ross Arena 5326 51 St\, 5326 51 St\, Elk Point\, Alberta\, T0A 1A0\, Canada
CATEGORIES:Community Events,Town of Elk Point Events
ATTACH;FMTTYPE=image/jpeg:https://s3.ca-central-1.amazonaws.com/oc-elkpoint.ca/wp-content/uploads/2022/12/12140211/elk-point-default-2.jpg
END:VEVENT
BEGIN:VEVENT
DTSTART;TZID=America/Edmonton:20260121T133000
DTEND;TZID=America/Edmonton:20260121T150000
DTSTAMP:20260420T065159
CREATED:20251203T164234Z
LAST-MODIFIED:20251203T164250Z
UID:22057-1769002200-1769007600@www.elkpoint.ca
SUMMARY:Parent & Kids Skating
DESCRIPTION:Please check Facebook for cancellations.
URL:https://www.elkpoint.ca/event/parent-kids-skating/2026-01-21/
LOCATION:AG Ross Arena 5326 51 St\, 5326 51 St\, Elk Point\, Alberta\, T0A 1A0\, Canada
CATEGORIES:Community Events,Town of Elk Point Events
ATTACH;FMTTYPE=image/jpeg:https://s3.ca-central-1.amazonaws.com/oc-elkpoint.ca/wp-content/uploads/2022/12/12140211/elk-point-default-2.jpg
END:VEVENT
BEGIN:VEVENT
DTSTART;TZID=America/Edmonton:20260122T190000
DTEND;TZID=America/Edmonton:20260122T210000
DTSTAMP:20260420T065159
CREATED:20251212T173234Z
LAST-MODIFIED:20251212T173234Z
UID:22216-1769108400-1769115600@www.elkpoint.ca
SUMMARY:Safe Winter Walking
DESCRIPTION:
URL:https://www.elkpoint.ca/event/safe-winter-walking/2026-01-22/
LOCATION:F.G. Miller Sr/Jr Highschool\, 5218 51 St\, Elk Point\, Alberta\, T0A 1A0\, Canada
CATEGORIES:Community Events,Town of Elk Point Events
ATTACH;FMTTYPE=image/jpeg:https://s3.ca-central-1.amazonaws.com/oc-elkpoint.ca/wp-content/uploads/2022/12/12140211/elk-point-default-2.jpg
END:VEVENT
BEGIN:VEVENT
DTSTART;TZID=America/Edmonton:20260127T190000
DTEND;TZID=America/Edmonton:20260127T210000
DTSTAMP:20260420T065159
CREATED:20251212T173234Z
LAST-MODIFIED:20251212T173234Z
UID:22217-1769540400-1769547600@www.elkpoint.ca
SUMMARY:Safe Winter Walking
DESCRIPTION:
URL:https://www.elkpoint.ca/event/safe-winter-walking/2026-01-27/
LOCATION:F.G. Miller Sr/Jr Highschool\, 5218 51 St\, Elk Point\, Alberta\, T0A 1A0\, Canada
CATEGORIES:Community Events,Town of Elk Point Events
ATTACH;FMTTYPE=image/jpeg:https://s3.ca-central-1.amazonaws.com/oc-elkpoint.ca/wp-content/uploads/2022/12/12140211/elk-point-default-2.jpg
END:VEVENT
BEGIN:VEVENT
DTSTART;TZID=America/Edmonton:20260128T120000
DTEND;TZID=America/Edmonton:20260128T133000
DTSTAMP:20260420T065159
CREATED:20251203T164436Z
LAST-MODIFIED:20251203T164452Z
UID:22096-1769601600-1769607000@www.elkpoint.ca
SUMMARY:Senior Skating
DESCRIPTION:Please check Facebook for Cancellations.
URL:https://www.elkpoint.ca/event/senior-skating/2026-01-28/
LOCATION:AG Ross Arena 5326 51 St\, 5326 51 St\, Elk Point\, Alberta\, T0A 1A0\, Canada
CATEGORIES:Community Events,Town of Elk Point Events
ATTACH;FMTTYPE=image/jpeg:https://s3.ca-central-1.amazonaws.com/oc-elkpoint.ca/wp-content/uploads/2022/12/12140211/elk-point-default-2.jpg
END:VEVENT
BEGIN:VEVENT
DTSTART;TZID=America/Edmonton:20260128T133000
DTEND;TZID=America/Edmonton:20260128T150000
DTSTAMP:20260420T065159
CREATED:20251203T164234Z
LAST-MODIFIED:20251203T164251Z
UID:22058-1769607000-1769612400@www.elkpoint.ca
SUMMARY:Parent & Kids Skating
DESCRIPTION:Please check Facebook for cancellations.
URL:https://www.elkpoint.ca/event/parent-kids-skating/2026-01-28/
LOCATION:AG Ross Arena 5326 51 St\, 5326 51 St\, Elk Point\, Alberta\, T0A 1A0\, Canada
CATEGORIES:Community Events,Town of Elk Point Events
ATTACH;FMTTYPE=image/jpeg:https://s3.ca-central-1.amazonaws.com/oc-elkpoint.ca/wp-content/uploads/2022/12/12140211/elk-point-default-2.jpg
END:VEVENT
BEGIN:VEVENT
DTSTART;TZID=America/Edmonton:20260129T190000
DTEND;TZID=America/Edmonton:20260129T210000
DTSTAMP:20260420T065159
CREATED:20251212T173234Z
LAST-MODIFIED:20251212T173234Z
UID:22218-1769713200-1769720400@www.elkpoint.ca
SUMMARY:Safe Winter Walking
DESCRIPTION:
URL:https://www.elkpoint.ca/event/safe-winter-walking/2026-01-29/
LOCATION:F.G. Miller Sr/Jr Highschool\, 5218 51 St\, Elk Point\, Alberta\, T0A 1A0\, Canada
CATEGORIES:Community Events,Town of Elk Point Events
ATTACH;FMTTYPE=image/jpeg:https://s3.ca-central-1.amazonaws.com/oc-elkpoint.ca/wp-content/uploads/2022/12/12140211/elk-point-default-2.jpg
END:VEVENT
END:VCALENDAR