BEGIN:VCALENDAR
VERSION:2.0
PRODID:-//Town of Elk Point - ECPv6.15.20//NONSGML v1.0//EN
CALSCALE:GREGORIAN
METHOD:PUBLISH
X-WR-CALNAME:Town of Elk Point
X-ORIGINAL-URL:https://www.elkpoint.ca
X-WR-CALDESC:Events for Town of Elk Point
REFRESH-INTERVAL;VALUE=DURATION:PT1H
X-Robots-Tag:noindex
X-PUBLISHED-TTL:PT1H
BEGIN:VTIMEZONE
TZID:America/Edmonton
BEGIN:DAYLIGHT
TZOFFSETFROM:-0700
TZOFFSETTO:-0600
TZNAME:MDT
DTSTART:20240310T090000
END:DAYLIGHT
BEGIN:STANDARD
TZOFFSETFROM:-0600
TZOFFSETTO:-0700
TZNAME:MST
DTSTART:20241103T080000
END:STANDARD
BEGIN:DAYLIGHT
TZOFFSETFROM:-0700
TZOFFSETTO:-0600
TZNAME:MDT
DTSTART:20250309T090000
END:DAYLIGHT
BEGIN:STANDARD
TZOFFSETFROM:-0600
TZOFFSETTO:-0700
TZNAME:MST
DTSTART:20251102T080000
END:STANDARD
BEGIN:DAYLIGHT
TZOFFSETFROM:-0700
TZOFFSETTO:-0600
TZNAME:MDT
DTSTART:20260308T090000
END:DAYLIGHT
BEGIN:STANDARD
TZOFFSETFROM:-0600
TZOFFSETTO:-0700
TZNAME:MST
DTSTART:20261101T080000
END:STANDARD
END:VTIMEZONE
BEGIN:VEVENT
DTSTART;TZID=America/Edmonton:20251124T153000
DTEND;TZID=America/Edmonton:20251124T173000
DTSTAMP:20260424T082052
CREATED:20251031T203718Z
LAST-MODIFIED:20251031T203723Z
UID:21819-1763998200-1764005400@www.elkpoint.ca
SUMMARY:Growing Minds Junior Edition
DESCRIPTION:
URL:https://www.elkpoint.ca/event/growing-minds-junior-edition/2025-11-24/
LOCATION:LFRN Elk Point 4906 – 48 St\, 4906 48 Street\, Elk Point\, Alberta\, T0A 1A0\, Canada
CATEGORIES:Community Events,Town of Elk Point Events
ATTACH;FMTTYPE=image/jpeg:https://s3.ca-central-1.amazonaws.com/oc-elkpoint.ca/wp-content/uploads/2022/12/12140211/elk-point-default-2.jpg
END:VEVENT
BEGIN:VEVENT
DTSTART;TZID=America/Edmonton:20251127T120000
DTEND;TZID=America/Edmonton:20251127T170000
DTSTAMP:20260424T082052
CREATED:20250312T194937Z
LAST-MODIFIED:20250414T230254Z
UID:20616-1764244800-1764262800@www.elkpoint.ca
SUMMARY:ELK POINT FARMERS MARKET
DESCRIPTION:
URL:https://www.elkpoint.ca/event/20582/2025-11-27/
LOCATION:Allied Arts & Leisure Centre\, 4605 - 57 Avenue\, Elk Point\, Alberta\, T0A 1A0\, Canada
CATEGORIES:Community Events,Town of Elk Point Events
ATTACH;FMTTYPE=image/jpeg:https://s3.ca-central-1.amazonaws.com/oc-elkpoint.ca/wp-content/uploads/2022/12/12140211/elk-point-default-2.jpg
END:VEVENT
BEGIN:VEVENT
DTSTART;VALUE=DATE:20251128
DTEND;VALUE=DATE:20251129
DTSTAMP:20260424T082052
CREATED:20251106T211437Z
LAST-MODIFIED:20251106T211440Z
UID:21876-1764288000-1764374399@www.elkpoint.ca
SUMMARY:Christmas Dinner Theatre
DESCRIPTION:
URL:https://www.elkpoint.ca/event/christmas-dinner-theatre/2025-11-28/
LOCATION:Alberta
CATEGORIES:Community Events,Town of Elk Point Events
ATTACH;FMTTYPE=image/jpeg:https://s3.ca-central-1.amazonaws.com/oc-elkpoint.ca/wp-content/uploads/2022/12/12140211/elk-point-default-2.jpg
END:VEVENT
BEGIN:VEVENT
DTSTART;VALUE=DATE:20251129
DTEND;VALUE=DATE:20251130
DTSTAMP:20260424T082052
CREATED:20251106T211437Z
LAST-MODIFIED:20251106T211440Z
UID:21879-1764374400-1764460799@www.elkpoint.ca
SUMMARY:Christmas Dinner Theatre
DESCRIPTION:
URL:https://www.elkpoint.ca/event/christmas-dinner-theatre/2025-11-29/
LOCATION:Alberta
CATEGORIES:Community Events,Town of Elk Point Events
ATTACH;FMTTYPE=image/jpeg:https://s3.ca-central-1.amazonaws.com/oc-elkpoint.ca/wp-content/uploads/2022/12/12140211/elk-point-default-2.jpg
END:VEVENT
END:VCALENDAR