BEGIN:VCALENDAR
VERSION:2.0
PRODID:-//Town of Elk Point - ECPv6.15.20//NONSGML v1.0//EN
CALSCALE:GREGORIAN
METHOD:PUBLISH
X-ORIGINAL-URL:https://www.elkpoint.ca
X-WR-CALDESC:Events for Town of Elk Point
REFRESH-INTERVAL;VALUE=DURATION:PT1H
X-Robots-Tag:noindex
X-PUBLISHED-TTL:PT1H
BEGIN:VTIMEZONE
TZID:America/Edmonton
BEGIN:DAYLIGHT
TZOFFSETFROM:-0700
TZOFFSETTO:-0600
TZNAME:MDT
DTSTART:20240310T090000
END:DAYLIGHT
BEGIN:STANDARD
TZOFFSETFROM:-0600
TZOFFSETTO:-0700
TZNAME:MST
DTSTART:20241103T080000
END:STANDARD
BEGIN:DAYLIGHT
TZOFFSETFROM:-0700
TZOFFSETTO:-0600
TZNAME:MDT
DTSTART:20250309T090000
END:DAYLIGHT
BEGIN:STANDARD
TZOFFSETFROM:-0600
TZOFFSETTO:-0700
TZNAME:MST
DTSTART:20251102T080000
END:STANDARD
BEGIN:DAYLIGHT
TZOFFSETFROM:-0700
TZOFFSETTO:-0600
TZNAME:MDT
DTSTART:20260308T090000
END:DAYLIGHT
BEGIN:STANDARD
TZOFFSETFROM:-0600
TZOFFSETTO:-0700
TZNAME:MST
DTSTART:20261101T080000
END:STANDARD
END:VTIMEZONE
BEGIN:VEVENT
DTSTART;TZID=America/Edmonton:20251210T120000
DTEND;TZID=America/Edmonton:20251210T133000
DTSTAMP:20260422T163304
CREATED:20251203T164436Z
LAST-MODIFIED:20251203T164448Z
UID:22089-1765368000-1765373400@www.elkpoint.ca
SUMMARY:Senior Skating
DESCRIPTION:Please check Facebook for Cancellations.
URL:https://www.elkpoint.ca/event/senior-skating/2025-12-10/
LOCATION:AG Ross Arena 5326 51 St\, 5326 51 St\, Elk Point\, Alberta\, T0A 1A0\, Canada
CATEGORIES:Community Events,Town of Elk Point Events
ATTACH;FMTTYPE=image/jpeg:https://s3.ca-central-1.amazonaws.com/oc-elkpoint.ca/wp-content/uploads/2022/12/12140211/elk-point-default-2.jpg
END:VEVENT
BEGIN:VEVENT
DTSTART;TZID=America/Edmonton:20251210T133000
DTEND;TZID=America/Edmonton:20251210T150000
DTSTAMP:20260422T163304
CREATED:20251203T164234Z
LAST-MODIFIED:20251203T164247Z
UID:22051-1765373400-1765378800@www.elkpoint.ca
SUMMARY:Parent & Kids Skating
DESCRIPTION:Please check Facebook for cancellations.
URL:https://www.elkpoint.ca/event/parent-kids-skating/2025-12-10/
LOCATION:AG Ross Arena 5326 51 St\, 5326 51 St\, Elk Point\, Alberta\, T0A 1A0\, Canada
CATEGORIES:Community Events,Town of Elk Point Events
ATTACH;FMTTYPE=image/jpeg:https://s3.ca-central-1.amazonaws.com/oc-elkpoint.ca/wp-content/uploads/2022/12/12140211/elk-point-default-2.jpg
END:VEVENT
BEGIN:VEVENT
DTSTART;TZID=America/Edmonton:20251211T120000
DTEND;TZID=America/Edmonton:20251211T170000
DTSTAMP:20260422T163304
CREATED:20250312T194937Z
LAST-MODIFIED:20250414T230255Z
UID:20618-1765454400-1765472400@www.elkpoint.ca
SUMMARY:ELK POINT FARMERS MARKET
DESCRIPTION:
URL:https://www.elkpoint.ca/event/20582/2025-12-11/
LOCATION:Allied Arts & Leisure Centre\, 4605 - 57 Avenue\, Elk Point\, Alberta\, T0A 1A0\, Canada
CATEGORIES:Community Events,Town of Elk Point Events
ATTACH;FMTTYPE=image/jpeg:https://s3.ca-central-1.amazonaws.com/oc-elkpoint.ca/wp-content/uploads/2022/12/12140211/elk-point-default-2.jpg
END:VEVENT
END:VCALENDAR