BEGIN:VCALENDAR
VERSION:2.0
PRODID:-//Town of Elk Point - ECPv6.15.20//NONSGML v1.0//EN
CALSCALE:GREGORIAN
METHOD:PUBLISH
X-WR-CALNAME:Town of Elk Point
X-ORIGINAL-URL:https://www.elkpoint.ca
X-WR-CALDESC:Events for Town of Elk Point
REFRESH-INTERVAL;VALUE=DURATION:PT1H
X-Robots-Tag:noindex
X-PUBLISHED-TTL:PT1H
BEGIN:VTIMEZONE
TZID:America/Edmonton
BEGIN:DAYLIGHT
TZOFFSETFROM:-0700
TZOFFSETTO:-0600
TZNAME:MDT
DTSTART:20240310T090000
END:DAYLIGHT
BEGIN:STANDARD
TZOFFSETFROM:-0600
TZOFFSETTO:-0700
TZNAME:MST
DTSTART:20241103T080000
END:STANDARD
BEGIN:DAYLIGHT
TZOFFSETFROM:-0700
TZOFFSETTO:-0600
TZNAME:MDT
DTSTART:20250309T090000
END:DAYLIGHT
BEGIN:STANDARD
TZOFFSETFROM:-0600
TZOFFSETTO:-0700
TZNAME:MST
DTSTART:20251102T080000
END:STANDARD
BEGIN:DAYLIGHT
TZOFFSETFROM:-0700
TZOFFSETTO:-0600
TZNAME:MDT
DTSTART:20260308T090000
END:DAYLIGHT
BEGIN:STANDARD
TZOFFSETFROM:-0600
TZOFFSETTO:-0700
TZNAME:MST
DTSTART:20261101T080000
END:STANDARD
END:VTIMEZONE
BEGIN:VEVENT
DTSTART;TZID=America/Edmonton:20251223T190000
DTEND;TZID=America/Edmonton:20251223T210000
DTSTAMP:20260422T133402
CREATED:20251212T173234Z
LAST-MODIFIED:20251212T174149Z
UID:22205-1766516400-1766523600@www.elkpoint.ca
SUMMARY:Safe Winter Walking
DESCRIPTION:
URL:https://www.elkpoint.ca/event/safe-winter-walking/2025-12-23/
LOCATION:F.G. Miller Sr/Jr Highschool\, 5218 51 St\, Elk Point\, Alberta\, T0A 1A0\, Canada
CATEGORIES:Community Events,Town of Elk Point Events
ATTACH;FMTTYPE=image/jpeg:https://s3.ca-central-1.amazonaws.com/oc-elkpoint.ca/wp-content/uploads/2022/12/12140211/elk-point-default-2.jpg
END:VEVENT
BEGIN:VEVENT
DTSTART;TZID=America/Edmonton:20251224T120000
DTEND;TZID=America/Edmonton:20251224T133000
DTSTAMP:20260422T133402
CREATED:20251203T164436Z
LAST-MODIFIED:20251203T164449Z
UID:22091-1766577600-1766583000@www.elkpoint.ca
SUMMARY:Senior Skating
DESCRIPTION:Please check Facebook for Cancellations.
URL:https://www.elkpoint.ca/event/senior-skating/2025-12-24/
LOCATION:AG Ross Arena 5326 51 St\, 5326 51 St\, Elk Point\, Alberta\, T0A 1A0\, Canada
CATEGORIES:Community Events,Town of Elk Point Events
ATTACH;FMTTYPE=image/jpeg:https://s3.ca-central-1.amazonaws.com/oc-elkpoint.ca/wp-content/uploads/2022/12/12140211/elk-point-default-2.jpg
END:VEVENT
BEGIN:VEVENT
DTSTART;TZID=America/Edmonton:20251224T133000
DTEND;TZID=America/Edmonton:20251224T150000
DTSTAMP:20260422T133402
CREATED:20251203T164234Z
LAST-MODIFIED:20251203T164248Z
UID:22053-1766583000-1766588400@www.elkpoint.ca
SUMMARY:Parent & Kids Skating
DESCRIPTION:Please check Facebook for cancellations.
URL:https://www.elkpoint.ca/event/parent-kids-skating/2025-12-24/
LOCATION:AG Ross Arena 5326 51 St\, 5326 51 St\, Elk Point\, Alberta\, T0A 1A0\, Canada
CATEGORIES:Community Events,Town of Elk Point Events
ATTACH;FMTTYPE=image/jpeg:https://s3.ca-central-1.amazonaws.com/oc-elkpoint.ca/wp-content/uploads/2022/12/12140211/elk-point-default-2.jpg
END:VEVENT
BEGIN:VEVENT
DTSTART;TZID=America/Edmonton:20251225T190000
DTEND;TZID=America/Edmonton:20251225T210000
DTSTAMP:20260422T133402
CREATED:20251212T173234Z
LAST-MODIFIED:20251212T174149Z
UID:22206-1766689200-1766696400@www.elkpoint.ca
SUMMARY:Safe Winter Walking
DESCRIPTION:
URL:https://www.elkpoint.ca/event/safe-winter-walking/2025-12-25/
LOCATION:F.G. Miller Sr/Jr Highschool\, 5218 51 St\, Elk Point\, Alberta\, T0A 1A0\, Canada
CATEGORIES:Community Events,Town of Elk Point Events
ATTACH;FMTTYPE=image/jpeg:https://s3.ca-central-1.amazonaws.com/oc-elkpoint.ca/wp-content/uploads/2022/12/12140211/elk-point-default-2.jpg
END:VEVENT
END:VCALENDAR